BEGIN:VCALENDAR
VERSION:2.0
PRODID:-//213.186.33.19//NONSGML kigkonsult.se iCalcreator 2.20//
CALSCALE:GREGORIAN
METHOD:PUBLISH
X-WR-TIMEZONE:Europe/Paris
BEGIN:VEVENT
UID:event773@Corps et Création
DTSTAMP:20260424T100958Z
CATEGORIES:Stage Peint&Collage + Visite Musée
DESCRIPTION:Stage Peindre&Voir - Voir&Peindre\nCatégorie: Stage Peint&Colla
 ge + Visite Musée\nLien: https://www.corpsetcreation.com/index.php?option=
 com_jem&view=event&id=773:stage-peindre-voir-voir-peindre\n
DTSTART;TZID=Europe/Paris:20250607T100000
DTEND;TZID=Europe/Paris:20250609T180000
LOCATION:C&C- Paris 11éme\,Rue du Faubourg Saint Antoine (Nation / Faidherb
 e)\,75011 PARIS
SUMMARY:Stage Peindre&Voir - Voir&Peindre
URL:https://www.corpsetcreation.com/index.php?option=com_jem&view=event&id=
 773:stage-peindre-voir-voir-peindre
END:VEVENT
END:VCALENDAR